BEGIN:VCALENDAR
VERSION:2.0
CALSCALE:GREGORIAN
PRODID:adamgibbons/ics
METHOD:PUBLISH
X-PUBLISHED-TTL:PT1H
BEGIN:VEVENT
UID:340@balfolk.jetzt
SUMMARY:Offene Musik-Session für alle akustischen Instrumente
DTSTAMP:20260426T033911Z
DTSTART:20260531T170000Z
DTEND:20260531T200000Z
DESCRIPTION:Haben Sie auch ein Instrument zuhause liegen\, aber niemand zum
	 Zusammenspielen?\nDer Folkclub und das Quartiersmanagement Lindleinsmühle
	 bieten jetzt die\nGelegenheit\, musikalischen Anschluss zu finden: Wir tr
	effen uns am 31. Mai ab 19\nUhr im Quartiersraum Lindleinsmühle\, Schwaben
	straße 6\, 97078 Würzburg. Die\nnächsten geplanten Termine sind:  28.6.\, 
	26.7. und 13.9.2026. Gemeinsam wollen\nwir Musik aus West-\, Nord- und Süd
	europa spielen\, wie sie bei traditionellen\nTanzbällen in Frankreich und 
	anderen Ländern beliebt ist\, Musik\, die inspiriert\,\ndie groovt\, die d
	ie Füße wippen lässt oder direkt zu Herzen geht. Man muss keine\nNoten les
	en können\, denn nach Gehör kann man ebenso gut mitspielen. Keine\nAnmeldu
	ng erforderlich! Getränke bitte selbst mitbringen! Eine kleine\nSaal-Spend
	e ist willkommen.
URL:https://balfolk.jetzt/event/offene-musik-session-fur-alle-akustischen-i
	nstrumente-1
GEO:49.808758;9.9625614
LOCATION:Quartiersraum Lindleinsmühle - Schwabenstraße 6\, Würzburg\, 97078
STATUS:CONFIRMED
CATEGORIES:Wuerzburg,ics,Ball
X-ALT-DESC;FMTTYPE=text/html:Haben Sie auch ein Instrument zuhause liegen, 
	aber niemand zum Zusammenspielen? <br>Der Folkclub und das Quartiersmanage
	ment Lindleinsmühle bieten jetzt die Gelegenheit, musikalischen Anschluss 
	zu finden: <br>Wir treffen uns am 31. Mai ab 19 Uhr im Quartiersraum Lindl
	einsmühle, Schwabenstraße 6, 97078 Würzburg. <br>Die nächsten geplanten Te
	rmine sind:  28.6., 26.7. und 13.9.2026. <br>Gemeinsam wollen wir Musik au
	s West-, Nord- und Südeuropa spielen, wie sie bei traditionellen Tanzbälle
	n in Frankreich und anderen Ländern beliebt ist, Musik, die inspiriert, di
	e groovt, die die Füße wippen lässt oder direkt zu Herzen geht. Man muss k
	eine Noten lesen können, denn nach Gehör kann man ebenso gut mitspielen. <
	br>Keine Anmeldung erforderlich! <br>Getränke bitte selbst mitbringen! <br
	>Eine kleine Saal-Spende ist willkommen.
BEGIN:VALARM
ACTION:DISPLAY
DESCRIPTION:Offene Musik-Session für alle akustischen Instrumente
TRIGGER:-PT1H
END:VALARM
END:VEVENT
END:VCALENDAR
