BEGIN:VCALENDAR
VERSION:2.0
CALSCALE:GREGORIAN
PRODID:adamgibbons/ics
METHOD:PUBLISH
X-PUBLISHED-TTL:PT1H
BEGIN:VEVENT
UID:336@balfolk.jetzt
SUMMARY:Tanzlernabend - Rondeau en couple / Mazurka
DTSTAMP:20260420T035737Z
DTSTART:20260507T170000Z
DTEND:20260507T190000Z
DESCRIPTION:Heute abend liegt der Schwerpunkt auf: Rondeau en couple Mazurk
	a Bei beiden\nTänzen wird nach dem Grundschritt auch erste Variationen gez
	eigt.
URL:https://balfolk.jetzt/event/tanzlernabend-rondeau-en-couple-mazurka
GEO:50.9421429;6.9340599
LOCATION:Cologne Dance Center - Venloer Strasse 41\, Köln\, NRW\, 50672\, D
	eutschland
STATUS:CONFIRMED
CATEGORIES:Cologne,ics
X-ALT-DESC;FMTTYPE=text/html:Heute abend liegt der Schwerpunkt auf:<br><br>
	 	Rondeau en couple<br> 	Mazurka<br><br>Bei beiden Tänzen wird nach dem Gr
	undschritt auch erste Variationen gezeigt.
BEGIN:VALARM
ACTION:DISPLAY
DESCRIPTION:Tanzlernabend - Rondeau en couple / Mazurka
TRIGGER:-PT1H
END:VALARM
END:VEVENT
END:VCALENDAR
